BEGIN:VCALENDAR
VERSION:2.0
PRODID:-//71.40.108.116//NONSGML kigkonsult.se iCalcreator 2.24.2//
CALSCALE:GREGORIAN
METHOD:PUBLISH
X-FROM-URL:http://stanleyvictoria.com.au
X-WR-TIMEZONE:Australia/Melbourne
BEGIN:VTIMEZONE
TZID:Australia/Melbourne
X-LIC-LOCATION:Australia/Melbourne
BEGIN:STANDARD
DTSTART:20190407T030000
TZOFFSETFROM:+1100
TZOFFSETTO:+1000
RDATE:20200405T030000
TZNAME:AEST
END:STANDARD
BEGIN:DAYLIGHT
DTSTART:20181007T020000
TZOFFSETFROM:+1000
TZOFFSETTO:+1100
RDATE:20191006T020000
TZNAME:AEDT
END:DAYLIGHT
END:VTIMEZONE
BEGIN:VEVENT
UID:ai1ec-1343@stanleyvictoria.com.au
DTSTAMP:20190227T143756Z
CATEGORIES;LANGUAGE=en-US:Jazz Night\,Music Events
CONTACT:Ed Tyrie
DESCRIPTION:<p>Once again our community will enjoy a wonderful night of Jaz
 z in the Memorial Hall.<br />\nMichelle Nicolle will be appearing as guest
  singer at the Stanley Memorial Hall on Saturday 14 May. Michelle will be 
 supported by Gianni Marinucci and a quarter of quality musicians. Commence
 s 8pm with two brackets of about 45-50 minutes each.<br />\nThis will be t
 he fourth Jazz at Stanley event.</p>
DTSTART;TZID=Australia/Melbourne:20160514T200000
DTEND;TZID=Australia/Melbourne:20160514T220000
GEO:-36.398977;+146.749825
LOCATION:Stanley Soldiers Memorial Hall @ Stanley Rd & Main Rd\, Stanley VI
 C 3747\, Australia
SEQUENCE:0
SUMMARY:Jazz Night
URL:http://stanleyvictoria.com.au/event/jazz-night/
X-COST-TYPE:external
X-COST:$35.00
END:VEVENT
END:VCALENDAR
